BEGIN:VCALENDAR
VERSION:2.0
PRODID:Events Booking
BEGIN:VEVENT
UID:69ea2edcc6ed6
SUMMARY:Webinar: Regresión lineal con Minitab 16
DESCRIPTION:En este seminario presentaremos cómo calcular con Minitab la e
 cuación de regresión lineal de datos correlacionados.
DTSTART:20130403T140000Z
DTEND:20130403T150000Z
DTSTAMP:20260423T143820Z
ORGANIZER;CN=Seminarios Addlink:MAILTO:seminarios@somos.addlink.es
END:VEVENT
END:VCALENDAR