BEGIN:VCALENDAR
VERSION:2.0
PRODID:Events Booking
BEGIN:VEVENT
UID:69eaf3bd74c2c
SUMMARY:Webinar: Modelado Multifísico con COMSOL Multiphysics 4.3b
DESCRIPTION:Introducción a COMSOL Multiphysics: herramienta de modelado y 
 análisis multifísico para prototipaje virtual.
DTSTART:20130912T080000Z
DTEND:20130912T090000Z
DTSTAMP:20260424T043821Z
ORGANIZER;CN=Seminarios Addlink:MAILTO:seminarios@somos.addlink.es
END:VEVENT
END:VCALENDAR