BEGIN:VCALENDAR
VERSION:2.0
PRODID:Events Booking
BEGIN:VEVENT
UID:69ea2eb8de44b
SUMMARY:Webinar: Modelado multifísico combinado con MATLAB
DESCRIPTION:Amplíe sus programas de MATLAB con simulaciones multifísicas\
 , automatice estudios\, realice pre/postprocesado personalizado de sus sim
 ulaciones\, construya interfaces gráficas específicas\, etc.
DTSTART:20160420T080000Z
DTEND:20160420T090000Z
DTSTAMP:20260423T143744Z
ORGANIZER;CN=Seminarios Addlink:MAILTO:seminarios@somos.addlink.es
END:VEVENT
END:VCALENDAR