BEGIN:VCALENDAR
VERSION:2.0
PRODID:Events Booking
BEGIN:VEVENT
UID:69ea2f8da5d2f
SUMMARY:Webinar: Modelado de la transferencia de calor en procesos multifí
 sicos
DESCRIPTION:Introducción al modelado de transferencia de calor y multifís
 ica.
DTSTART:20140218T090000Z
DTEND:20140218T100000Z
DTSTAMP:20260423T144117Z
ORGANIZER;CN=Seminarios Addlink:MAILTO:seminarios@somos.addlink.es
END:VEVENT
END:VCALENDAR