BEGIN:VCALENDAR
VERSION:2.0
PRODID:Events Booking
BEGIN:VEVENT
UID:69ea2f86ce191
SUMMARY:Webinar: Modelado de dinámica de fluidos computacional (CFD) en pr
 ocesos multifísicos
DESCRIPTION:Introducción al modelado de flujo de fluidos (CFD) y multifís
 ica con COMSOL Multiphysics
 
DTSTART:20140311T090000Z
DTEND:20140311T100000Z
DTSTAMP:20260423T144110Z
ORGANIZER;CN=Seminarios Addlink:MAILTO:seminarios@somos.addlink.es
END:VEVENT
END:VCALENDAR