BEGIN:VCALENDAR
VERSION:2.0
PRODID:Events Booking
BEGIN:VEVENT
UID:69ea2ed7e534a
SUMMARY:Webinar: Diseños factoriales de experimentos con Minitab
DESCRIPTION:En este seminario nos centraremos en las aplicaciones básicas 
 relacionadas con el diseño y análisis de Diseños de Experimentos (DoE) 
 2k-p con Minitab.
DTSTART:20130605T140000Z
DTEND:20130605T150000Z
DTSTAMP:20260423T143815Z
ORGANIZER;CN=Seminarios Addlink:MAILTO:seminarios@somos.addlink.es
END:VEVENT
END:VCALENDAR