BEGIN:VCALENDAR
VERSION:2.0
PRODID:Events Booking
BEGIN:VEVENT
UID:69ea2f2a9dc0a
SUMMARY:Webinar: Innovaciones en Mathematica 9
DESCRIPTION:Conozca las novedades incorporadas en las últimas versiones de
  Mathematica\; en particular las de la versión 9\, lanzada en noviembre d
 e 2012.
DTSTART:20131018T080000Z
DTEND:20131018T090000Z
DTSTAMP:20260423T143938Z
ORGANIZER;CN=Seminarios Addlink:MAILTO:seminarios@somos.addlink.es
END:VEVENT
END:VCALENDAR