BEGIN:VCALENDAR
VERSION:2.0
PRODID:Events Booking
BEGIN:VEVENT
UID:69ea2f3ee5374
SUMMARY:Webinar: Simulaciones en mecánica de sólidos con COMSOL Multiphys
 ics
DESCRIPTION:En este webinar se muestra cómo COMSOL Multiphysics puede ayud
 ar a los ingenieros e investigadores a modelar aplicaciones de mecánica e
 structural.
DTSTART:20140610T150000Z
DTEND:20140610T160000Z
DTSTAMP:20260423T143958Z
ORGANIZER;CN=Seminarios Addlink:MAILTO:seminarios@somos.addlink.es
END:VEVENT
END:VCALENDAR