BEGIN:VCALENDAR
VERSION:2.0
PRODID:Events Booking
BEGIN:VEVENT
UID:69ea8a02d70c8
SUMMARY:Webinar: Maple 2015 Training for Educators
DESCRIPTION:Este webinar le muestra los conceptos fundamentales de Maple y 
 las principales novedades de la última versión Maple 2015.
 
LOCATION:Virtual - Sesiones telemáticas
DTSTART:20150317T180000Z
DTEND:20150317T190000Z
DTSTAMP:20260423T210714Z
ORGANIZER;CN=Seminarios Addlink:MAILTO:seminarios@somos.addlink.es
END:VEVENT
END:VCALENDAR