BEGIN:VCALENDAR
VERSION:2.0
PRODID:Events Booking
BEGIN:VEVENT
UID:69ea5842bfbf5
SUMMARY:Webinar: Incorporating Dynamic Models of Electrochemical Batteries 
 into a Multidomain Environment
DESCRIPTION:Introducción a la librería de baterías de MapleSim.
DTSTART:20150127T190000Z
DTEND:20150127T200000Z
DTSTAMP:20260423T173458Z
ORGANIZER;CN=Seminarios Addlink:MAILTO:seminarios@somos.addlink.es
END:VEVENT
END:VCALENDAR