BEGIN:VCALENDAR
VERSION:2.0
PRODID:Events Booking
BEGIN:VEVENT
UID:69ea16a54b005
SUMMARY:Webinar: Getting started with MapleSim
DESCRIPTION:Este webinar le muestra los conceptos fundamentales del modelad
 o con MapleSim
DTSTART:20150630T140000Z
DTEND:20150630T150000Z
DTSTAMP:20260423T125501Z
ORGANIZER;CN=Seminarios Addlink:MAILTO:seminarios@somos.addlink.es
END:VEVENT
END:VCALENDAR