BEGIN:VCALENDAR
VERSION:2.0
PRODID:Events Booking
BEGIN:VEVENT
UID:69ea2ed8692e6
SUMMARY:Webinar: Discover the Signal Processing Package in Maple
DESCRIPTION:Este webinar muetra las múltiples y potentes herramientas de p
 rocesado de señal que vienen en Maple.
DTSTART:20170222T150000Z
DTEND:20170222T160000Z
DTSTAMP:20260423T143816Z
ORGANIZER;CN=Seminarios Addlink:MAILTO:seminarios@somos.addlink.es
END:VEVENT
END:VCALENDAR