BEGIN:VCALENDAR
VERSION:2.0
PRODID:Events Booking
BEGIN:VEVENT
UID:69ea2f247b8f4
SUMMARY:Webinar: Connecting Maple T.A. to your learning management system
DESCRIPTION:Este webinar le muestra cómo integrar Maple T.A. en cualquiera
  de los sistemas de gestion de cursos que utilice en su institución.
DTSTART:20170815T180000Z
DTEND:20170815T190000Z
DTSTAMP:20260423T143932Z
ORGANIZER;CN=Seminarios Addlink:MAILTO:seminarios@somos.addlink.es
END:VEVENT
END:VCALENDAR