BEGIN:VCALENDAR
VERSION:2.0
PRODID:Events Booking
BEGIN:VEVENT
UID:69eac84628144
SUMMARY:Webinar COMSOL: Simulación de control retroalimentado para aplicac
 iones de transferencia de calor
DESCRIPTION:En este webinar se presentará un enfoque sistemático para la 
 implementación y sintonización de controladores PID con retroalimentaci
 ón para sistemas térmicos\, reduciendo la necesidad de ensayos por prueb
 a y error.
DTSTART:20160329T180000Z
DTEND:20160329T190000Z
DTSTAMP:20260424T013254Z
ORGANIZER;CN=Seminarios Addlink:MAILTO:seminarios@somos.addlink.es
END:VEVENT
END:VCALENDAR