BEGIN:VCALENDAR
VERSION:2.0
PRODID:Events Booking
BEGIN:VEVENT
UID:69e9f10beff91
SUMMARY:Webinar COMSOL: Presentando COMSOL Multiphysics versión 4.3b
DESCRIPTION:Conozca las novedades de la última versión de COMSOL Multiphy
 sics 4.3b\, a través de ejemplos.
DTSTART:20130627T150000Z
DTEND:20130627T160000Z
DTSTAMP:20260423T101435Z
ORGANIZER;CN=Seminarios Addlink:MAILTO:seminarios@somos.addlink.es
END:VEVENT
END:VCALENDAR