BEGIN:VCALENDAR
VERSION:2.0
PRODID:Events Booking
BEGIN:VEVENT
UID:69e9f2d56b8b8
SUMMARY:Webinar COMSOL: Modelamiento de Medios Porosos en Aplicaciones Mine
 ras
DESCRIPTION:Modele fenómenos de transporte de solutos reactivos mediante e
 l acoplamiento no lineal de fenómenos como el flujo de agua subterránea 
 y los procesos geoquímicos con COMSOL Multiphysics.
DTSTART:20141028T150000Z
DTEND:20141028T160000Z
DTSTAMP:20260423T102213Z
ORGANIZER;CN=Seminarios Addlink:MAILTO:seminarios@somos.addlink.es
END:VEVENT
END:VCALENDAR