BEGIN:VCALENDAR
VERSION:2.0
PRODID:Events Booking
BEGIN:VEVENT
UID:69ea57f458b1d
SUMMARY:Webinar COMSOL: Modelado de baterías y celdas de combustible
DESCRIPTION:Presentación del módulo de análisis y diseño de baterías y
  celdas de combustible de COMSOL Multiphysics.
DTSTART:20141216T160000Z
DTEND:20141216T170000Z
DTSTAMP:20260423T173340Z
ORGANIZER;CN=Seminarios Addlink:MAILTO:seminarios@somos.addlink.es
END:VEVENT
END:VCALENDAR