BEGIN:VCALENDAR
VERSION:2.0
PRODID:Events Booking
BEGIN:VEVENT
UID:69e9f1dfcd398
SUMMARY:Webinar COMSOL: Engenharia de reações químicas no COMSOL Multiph
 ysics
DESCRIPTION:Venha conferir neste seminário online as capacidades\, oportun
 idades e aplicações do COMSOL Multiphysics® nos diversos campos da Quí
 mica.
DTSTART:20141125T160000Z
DTEND:20141125T170000Z
DTSTAMP:20260423T101807Z
ORGANIZER;CN=Seminarios Addlink:MAILTO:seminarios@somos.addlink.es
END:VEVENT
END:VCALENDAR