BEGIN:VCALENDAR
VERSION:2.0
PRODID:Events Booking
BEGIN:VEVENT
UID:69ea1967e8f76
SUMMARY:Webinar COMSOL: Acústica y Vibraciones con COMSOL Multiphysics
DESCRIPTION:
   Conozca cómo modelar sistemas acústicos con COMSOL Multi
 physics a través de ejemplos
 
DTSTART:20130418T150000Z
DTEND:20130418T160000Z
DTSTAMP:20260423T130647Z
ORGANIZER;CN=Seminarios Addlink:MAILTO:seminarios@somos.addlink.es
END:VEVENT
END:VCALENDAR