BEGIN:VCALENDAR
VERSION:2.0
PRODID:Events Booking
BEGIN:VEVENT
UID:69e9f12ba3f32
SUMMARY:Webinar: Clickable Calculus Series – Part 5: Linear Algebra
DESCRIPTION:Este webinar está diseñado para los usuarios interesados en r
 ealizar cálculos de álgebra lineal. Se mostrarán las diferentes formas 
 de introducir\, manipular y resolver problemas matemáticos de este tipo c
 on Maple.
DTSTART:20160519T140000Z
DTEND:20160519T150000Z
DTSTAMP:20260423T101507Z
ORGANIZER;CN=Seminarios Addlink:MAILTO:seminarios@somos.addlink.es
END:VEVENT
END:VCALENDAR