BEGIN:VCALENDAR
VERSION:2.0
PRODID:Events Booking
BEGIN:VEVENT
UID:69e9f10a33d69
SUMMARY:Webinar: Challenges and Solutions for Engineering Educators
DESCRIPTION:En este webinar\, se realizará una introducción al modelado\,
  simulación y análisis con MapleSim mediante el estudio de un modelo de 
 vehículo completo.
DTSTART:20130725T180000Z
DTEND:20130725T190000Z
DTSTAMP:20260423T101434Z
ORGANIZER;CN=Seminarios Addlink:MAILTO:seminarios@somos.addlink.es
END:VEVENT
END:VCALENDAR