BEGIN:VCALENDAR
VERSION:2.0
PRODID:Events Booking
BEGIN:VEVENT
UID:69ed840fe06a6
SUMMARY:Webinar: Primer vistazo a Maple
DESCRIPTION:Introducción a las herramientas de cálculo y visualización d
 e Maple desde la perspectiva de su uso interactivo.
LOCATION:Virtual - Sesiones telemáticas
DTSTART:20181113T080000Z
DTEND:20181113T090000Z
DTSTAMP:20260426T031839Z
ORGANIZER;CN=Seminarios Addlink:MAILTO:seminarios@somos.addlink.es
END:VEVENT
END:VCALENDAR