BEGIN:VCALENDAR
VERSION:2.0
PRODID:Events Booking
BEGIN:VEVENT
UID:69ed6909c3e14
SUMMARY:Webinar: Modelado de un microactuador térmico
DESCRIPTION:En este webinar modelaremos en vivo un microactuador térmico u
 tilizando COMSOL Multiphysics y varios de sus módulos para combinar efect
 os efectos eléctricos\, térmicos y deformaciones estructurales.
DTSTART:20161021T080000Z
DTEND:20161021T083000Z
DTSTAMP:20260426T012321Z
ORGANIZER;CN=Seminarios Addlink:MAILTO:seminarios@somos.addlink.es
END:VEVENT
END:VCALENDAR