BEGIN:VCALENDAR
VERSION:2.0
PRODID:Events Booking
BEGIN:VEVENT
UID:69ed6db0bf783
SUMMARY:Webinar: Minitab como herramienta para explotar el VALOR de los DAT
 OS
DESCRIPTION:Introducción a Minitab como herramienta de tratamiento de dato
 s y extracción de resultados.
 
LOCATION:Virtual - Sesiones telemáticas
DTSTART:20180710T070000Z
DTEND:20180710T080000Z
DTSTAMP:20260426T014312Z
ORGANIZER;CN=Seminarios Addlink:MAILTO:seminarios@somos.addlink.es
END:VEVENT
END:VCALENDAR