BEGIN:VCALENDAR
VERSION:2.0
PRODID:Events Booking
BEGIN:VEVENT
UID:69ed7e359ab88
SUMMARY:Webinar: Introducción a BIOVIA Notebook Cloud
DESCRIPTION:Introducción a BIOVIA Notebook Cloud\, la plataforma en línea
  de libretas&nbsp\;de laboratorio electrónico (ELN) de BIOVIA.
LOCATION:Virtual - Sesiones telemáticas
DTSTART:20200728T070000Z
DTEND:20200728T074500Z
DTSTAMP:20260426T025341Z
ORGANIZER;CN=Seminarios Addlink:MAILTO:seminarios@somos.addlink.es
END:VEVENT
END:VCALENDAR