BEGIN:VCALENDAR
VERSION:2.0
PRODID:Events Booking
BEGIN:VEVENT
UID:69ea47fc0a685
SUMMARY:Seminario: Materials Studio: líder mundial en soluciones de modela
 do y simulación para las ciencias de los materiales (Madrid)
DESCRIPTION:Conozca el software Materials Studio para modelar y evaluar el 
 rendimiento de materiales como parte integral de la estrategia de gestión
  del ciclo de vida de la innovación científica. Materials Studio es un 
 software desarrollado por BIOVIA (antes Accelrys) y distribuido por Addlin
 k Software Científico.
LOCATION:C/ Pinar Nº19
DTSTART:20150316T090000Z
DTEND:20150316T153000Z
DTSTAMP:20260423T162532Z
ORGANIZER;CN=Seminarios Addlink:MAILTO:seminarios@somos.addlink.es
GEO:40.439581;-3.687611
X-APPLE-STRUCTURED-LOCATION;VALUE=URI;X-ADDRESS=C/ Pinar Nº19;X-APPLE-RADI
 US=72;X-TITLE=Secretaria General Adjunta de Informática (SGAI) - CSIC. Ma
 drid. Sala de cursos:40.439581;-3.687611
END:VEVENT
END:VCALENDAR