BEGIN:VCALENDAR
VERSION:2.0
PRODID:Events Booking
BEGIN:VEVENT
UID:69e9f11c0a29f
SUMMARY:Webinar: Document design by Dr. Robert Lopez
DESCRIPTION:Este webinar le muestra cómo utilizar Maple para documentar de
  manera profesional sus cálculos utilizando matemática natural y gráfic
 os de alta calidad.
 
LOCATION:Virtual - Sesiones telemáticas
DTSTART:20180213T190000Z
DTEND:20180213T200000Z
DTSTAMP:20260423T101452Z
ORGANIZER;CN=Seminarios Addlink:MAILTO:seminarios@somos.addlink.es
END:VEVENT
END:VCALENDAR