BEGIN:VCALENDAR
VERSION:2.0
PRODID:Events Booking
BEGIN:VEVENT
UID:69ed6018d922a
SUMMARY:Webinar: Gestión térmica en baterías y pilas de combustible
DESCRIPTION:En este webinar exploraremos la transferencia de calor\, las fu
 entes térmicas asociadas a procesos electroquímicos y estrategias de mod
 elado eficientes utilizando COMSOL Multiphysics® y sus módulos: COMSOL H
 eat Transfer Module\, COMSOL Fuel Cell &amp\; Electrolyzer Module y COMSOL
  CFD Module.
LOCATION:Virtual - Sesiones telemáticas
DTSTART:20250625T080000Z
DTEND:20250625T173000Z
DTSTAMP:20260426T004512Z
ORGANIZER;CN=Seminarios Addlink:MAILTO:seminarios@somos.addlink.es
END:VEVENT
END:VCALENDAR