BEGIN:VCALENDAR
VERSION:2.0
PRODID:Events Booking
BEGIN:VEVENT
UID:69ea2f8d0f9a9
SUMMARY:Webinar COMSOL: Modelado de depósitos subterráneos de recursos na
 turales con COMSOL
DESCRIPTION:Si desea aprender a modelar yacimientos subterráneos de recurs
 os naturales con el software COMSOL Multiphysics®\, participe en este sem
 inario web.
 
LOCATION:Virtual - Sesiones telemáticas
DTSTART:20180116T160000Z
DTEND:20180116T170000Z
DTSTAMP:20260423T144117Z
ORGANIZER;CN=Seminarios Addlink:MAILTO:seminarios@somos.addlink.es
END:VEVENT
END:VCALENDAR