BEGIN:VCALENDAR
VERSION:2.0
PRODID:Events Booking
BEGIN:VEVENT
UID:69e9efbfbbfc3
SUMMARY:Webinar COMSOL: Modelado con COMSOL Multiphysics
DESCRIPTION:Durante este webinar se verá cómo construir un modelo con COM
 SOL Multiphysics 5.2.
DTSTART:20160209T190000Z
DTEND:20160209T200000Z
DTSTAMP:20260423T100903Z
ORGANIZER;CN=Seminarios Addlink:MAILTO:seminarios@somos.addlink.es
END:VEVENT
END:VCALENDAR