BEGIN:VCALENDAR
VERSION:2.0
PRODID:Events Booking
BEGIN:VEVENT
UID:69ea2fd6c1572
SUMMARY:Seminário/Workshop: Simulação multi-física em campos elétricos
 \, magnéticos e eletromagnéticos e plasma (Porto)
DESCRIPTION:Descubra o COMSOL Multiphysics\, um software de simulação de 
 elementos finitos de integração de vários fenómenos físicos\, altamen
 te usado em investigação\, quer em engenharia quer na física. Introduç
 ão ao COMSOL Multiphysics e seus módulos AC/DC e Plasma.
LOCATION:R. Dr. Roberto Frias\, 4200 Porto\, Portugal
DTSTART:20170125T090000Z
DTEND:20170125T130000Z
DTSTAMP:20260423T144230Z
ORGANIZER;CN=Seminarios Addlink:MAILTO:seminarios@somos.addlink.es
GEO:41.178902;-8.598723
X-APPLE-STRUCTURED-LOCATION;VALUE=URI;X-ADDRESS=R. Dr. Roberto Frias\, 4200
  Porto\, Portugal;X-APPLE-RADIUS=72;X-TITLE=Universidade do Porto. Faculda
 de de Engenharia. Departamento de Engenharia Física (DEF):41.178902;-8.59
 8723
END:VEVENT
END:VCALENDAR