BEGIN:VCALENDAR
VERSION:2.0
PRODID:Events Booking
BEGIN:VEVENT
UID:69e9f0cd6d95d
SUMMARY:Webinar COMSOL: Modelado con COMSOL Multiphysics
DESCRIPTION:Durante este webinar demostraremos cómo se pueden construir mo
 delos multifísicos y aplicaciones con COMSOL Multiphysics.
DTSTART:20151102T190000Z
DTEND:20151102T200000Z
DTSTAMP:20260423T101333Z
ORGANIZER;CN=Seminarios Addlink:MAILTO:seminarios@somos.addlink.es
END:VEVENT
END:VCALENDAR