BEGIN:VCALENDAR
VERSION:2.0
PRODID:Events Booking
BEGIN:VEVENT
UID:69ea2eddc61ac
SUMMARY:Webinar COMSOL: Modelado de Transformadores e Inductores
DESCRIPTION:Diseñe y optimice sus inductores y transformadores con COMSOL 
 Multiphysics.
DTSTART:20150922T150000Z
DTEND:20150922T160000Z
DTSTAMP:20260423T143821Z
ORGANIZER;CN=Seminarios Addlink:MAILTO:seminarios@somos.addlink.es
END:VEVENT
END:VCALENDAR