BEGIN:VCALENDAR
VERSION:2.0
PRODID:Events Booking
BEGIN:VEVENT
UID:69ea2e5f9e45a
SUMMARY:Webinar COMSOL: Modelado con COMSOL Multiphysics
DESCRIPTION:Durante este webinar demostraremos cómo se pueden construir mo
 delos multifísicos y aplicaciones con COMSOL Multiphysics.
DTSTART:20150724T170000Z
DTEND:20150724T180000Z
DTSTAMP:20260423T143615Z
ORGANIZER;CN=Seminarios Addlink:MAILTO:seminarios@somos.addlink.es
END:VEVENT
END:VCALENDAR