BEGIN:VCALENDAR
VERSION:2.0
PRODID:Events Booking
BEGIN:VEVENT
UID:69ea2f8d0cfba
SUMMARY:Webinar: Trabajo cooperativo de COMSOL Multiphysics con aplicacione
 s CAD
DESCRIPTION:Introducción al trabajo cooperativo de COMSOL Multiphysics con
  aplicaciones CAD
DTSTART:20151021T080000Z
DTEND:20151021T090000Z
DTSTAMP:20260423T144117Z
ORGANIZER;CN=Seminarios Addlink:MAILTO:seminarios@somos.addlink.es
END:VEVENT
END:VCALENDAR